BEGIN:VCALENDAR
VERSION:2.0
PRODID:-//eventon.com NONSGML v1.0//EN
BEGIN:VEVENT
UID:69e63ab07d0de
DTSTAMP:20260420T163944
DTSTART:20200513T080000Z
DTEND:20200513T220000Z
LOCATION:
SUMMARY:Session plénière du Parlement européen
DESCRIPTION: Pendant les sessions plénières\,  l'hémicycle du Parlement européenn accueille l'ensemble des députés européens pour débattre et voter les lois européennes. Il a servi de cadre à de nombreux votes historiques. Il accueille également les séances solennelles qui voient des invités d’honneur – chefs d’État\,  lauréats du prix Sakharov ou autres personnalités[..]
END:VEVENT
END:VCALENDAR