BEGIN:VCALENDAR
VERSION:2.0
PRODID:-//eventon.com NONSGML v1.0//EN
BEGIN:VEVENT
UID:69e7aad83cd32
DTSTAMP:20260421T185032
DTSTART:20250908T060000Z
DTEND:20250911T160000Z
LOCATION:
SUMMARY:8 au 11 septembre 2025 : sessions parlementaires Parlement européen Strasbourg
DESCRIPTION: 8 au 11 septembre 2025 : sessions parlementaires Parlement européen Strasbourg Les députés européens se réunissent en plénière au Parlement européen à Strasbourg du 8 au 11 septembre 2025  Vous pouvez retrouver l’ordre du jour ici : https://www.europarl.europa.eu/plenary/fr/agendas.html Il est également possible de suivre la plénière pendant une durée de 30[..]
END:VEVENT
END:VCALENDAR