BEGIN:VCALENDAR
VERSION:2.0
PRODID:-//eventon.com NONSGML v1.0//EN
BEGIN:VEVENT
UID:69ed633fcede5
DTSTAMP:20260426T025839
DTSTART:20230303T140300Z
DTEND:20230429T140300Z
LOCATION:
SUMMARY:Prix de thèse Pierre Pflimlin
DESCRIPTION: Avant le 30 avril 2023 : candidater au Prix de thèse Pierre Pflimlin. Le cercle Pierre Pflimlin et Sciences Po Strasbourg organisent la 12ème édition du Prix de thèse Pierre Pflimlin. Ce prix récompense une thèse en sciences humaines et sociales consacrée aux problématiques de la construction européenne. La thèse[..]
END:VEVENT
END:VCALENDAR