BEGIN:VCALENDAR
VERSION:2.0
PRODID:-//eventon.com NONSGML v1.0//EN
BEGIN:VEVENT
UID:69e4d58ceeacd
DTSTAMP:20260419T151556
DTSTART:20220719T160000Z
DTEND:20220719T170000Z
LOCATION:En ligne 
SUMMARY:Les mardis strasbourgeois : focus sur le Pôle accueil de la Ville de Strasbourg avec sa responsable Stefanie STEYRER
DESCRIPTION: Envie de découvrir le Pôle Accueil des institutions européennes et des délégations internationales de la Ville et Eurométropole de Strasbourg\,  une administration complexe avec plus de 7000 agents-es et 250 métiers dans un territoire transfrontalier en pleine mutation dont les attentes de ses habitants-es se modifient de jour en jour ?[..]
END:VEVENT
END:VCALENDAR